BEGIN:VCALENDAR
VERSION:2.0
PRODID:-//Metro Owners Club - ECPv6.15.20//NONSGML v1.0//EN
CALSCALE:GREGORIAN
METHOD:PUBLISH
X-ORIGINAL-URL:https://metroownersclub.co.uk
X-WR-CALDESC:Events for Metro Owners Club
REFRESH-INTERVAL;VALUE=DURATION:PT1H
X-Robots-Tag:noindex
X-PUBLISHED-TTL:PT1H
BEGIN:VTIMEZONE
TZID:Europe/London
BEGIN:DAYLIGHT
TZOFFSETFROM:+0000
TZOFFSETTO:+0100
TZNAME:BST
DTSTART:20250330T010000
END:DAYLIGHT
BEGIN:STANDARD
TZOFFSETFROM:+0100
TZOFFSETTO:+0000
TZNAME:GMT
DTSTART:20251026T010000
END:STANDARD
BEGIN:DAYLIGHT
TZOFFSETFROM:+0000
TZOFFSETTO:+0100
TZNAME:BST
DTSTART:20260329T010000
END:DAYLIGHT
BEGIN:STANDARD
TZOFFSETFROM:+0100
TZOFFSETTO:+0000
TZNAME:GMT
DTSTART:20261025T010000
END:STANDARD
BEGIN:DAYLIGHT
TZOFFSETFROM:+0000
TZOFFSETTO:+0100
TZNAME:BST
DTSTART:20270328T010000
END:DAYLIGHT
BEGIN:STANDARD
TZOFFSETFROM:+0100
TZOFFSETTO:+0000
TZNAME:GMT
DTSTART:20271031T010000
END:STANDARD
END:VTIMEZONE
BEGIN:VEVENT
DTSTART;TZID=Europe/London:20260418T100000
DTEND;TZID=Europe/London:20260418T160000
DTSTAMP:20260421T140148
CREATED:20260114T173907Z
LAST-MODIFIED:20260324T082313Z
UID:243-1776506400-1776528000@metroownersclub.co.uk
SUMMARY:Pride of Longbridge
DESCRIPTION:Come along and join us at the Metro Owners Club stand.\nWhat lovely Austin Metros\, Rover Metros and Rover 100s will be joining us?\n\n\nIt’s held at Cofton Park.\nEntrance is on Lowhill Lane and is on Saturday 18th April.\nIt’s a free event and no need to book so just turn up on the day.\nGates open an 10am.
URL:https://metroownersclub.co.uk/event/pride-of-longbridge/
LOCATION:Cofton Park\, Cofton Park nr Longbridge\, Birmingham\, B31 2BQ\, United Kingdom
END:VEVENT
BEGIN:VEVENT
DTSTART;TZID=Europe/London:20260320T000000
DTEND;TZID=Europe/London:20260322T235959
DTSTAMP:20260421T140148
CREATED:20260109T082126Z
LAST-MODIFIED:20260211T104736Z
UID:157-1773964800-1774223999@metroownersclub.co.uk
SUMMARY:Practical Classics Classic Car & Restoration Show 2026
DESCRIPTION:Please quote CCMETROM6 at the checkout for your discount.\nThe club has a display stand and have a discount code for tickets (this also benefits the club).\nPLEASE QUOTE CCMETROM6 at the checkout for your discount \nThe Practical Classics Classic Car & Restoration Show returns to Birmingham’s NEC from the 20-22 March 2026! \nEnter a restoration paradise\, featuring over 1\,300 classics 160+ car clubs and 250+ exhibitors. \nGet all the latest tips and tricks at the Restoration Workshop\, shop from hundreds of specialist traders and vote for your favourite cars at the incredible Barn Find and Pride of Ownership competitions. \nWatch the action unfold at Classic Car Auctions by Iconic Auctioneers\, meet motoring celebs and experts and enjoy your favourite magazine through four interactive spaces at the Practical Classics World area!
URL:https://metroownersclub.co.uk/event/practical-classics-classic-car-restoration-show-2026/
LOCATION:NEC Birmingham\, NEC\, Birmingham\, B40 1NT\, United Kingdom
END:VEVENT
END:VCALENDAR